BEGIN:VCALENDAR
VERSION:2.0
PRODID:-//eigenleben.de - ECPv6.3.5//NONSGML v1.0//EN
CALSCALE:GREGORIAN
METHOD:PUBLISH
X-ORIGINAL-URL:https://eigenleben.de
X-WR-CALDESC:Veranstaltungen für eigenleben.de
REFRESH-INTERVAL;VALUE=DURATION:PT1H
X-Robots-Tag:noindex
X-PUBLISHED-TTL:PT1H
BEGIN:VTIMEZONE
TZID:Europe/Berlin
BEGIN:DAYLIGHT
TZOFFSETFROM:+0100
TZOFFSETTO:+0200
TZNAME:CEST
DTSTART:20240331T010000
END:DAYLIGHT
BEGIN:STANDARD
TZOFFSETFROM:+0200
TZOFFSETTO:+0100
TZNAME:CET
DTSTART:20241027T010000
END:STANDARD
END:VTIMEZONE
BEGIN:VEVENT
DTSTART;TZID=Europe/Berlin:20241108T180000
DTEND;TZID=Europe/Berlin:20241108T190000
DTSTAMP:20260420T112012
CREATED:20241025T124645Z
LAST-MODIFIED:20241102T125200Z
UID:10000636-1731088800-1731092400@eigenleben.de
SUMMARY:Vernissage & Lesung mit Thomas J. Hauck
DESCRIPTION:DIE WINDSBRAUT UND DER BOHNENKÖNIG\nNeue Bilder von Thomas J. Hauck\, der sich selbst bezeichnet als:\nAUTOR\, SCHAUSPIELER\, DOZENT\, BILDENDER KÜNSTLER\, STADTSTRAWANZLER\, KARAMELLBONBONERIST\, MEERWELLENTÄNZER\, CAFEHAUSSITZER\, SPARIFANKEL UND SÜSSTEILCHENGENIESER \nVernissage\nFreitag\, 8.11.2024\, 18:00 Uhr\nEinführende Worte von Dr. Ekkehard Baumgartner\nAnschließend Lesung aus\nDER FISCH DER ZU IHM GESPROCHEN HATTE\n(erschienen im Verlag Bibliothek der Provinz)
URL:https://eigenleben.de/event/vernissage-die-windsbraut-und-der-bohnenkoenig/
LOCATION:Raum für eigenleben\, Kurfürstenstraße 2\, München\, 80799\, Deutschland
CATEGORIES:Kultur,Kunst,Literatur
ATTACH;FMTTYPE=image/jpeg:https://eigenleben.de/wp-content/uploads/2024/10/Thomas-J-Hauck.jpg
ORGANIZER;CN="eigenleben.Club":MAILTO:club@eigenleben.de
END:VEVENT
END:VCALENDAR