BEGIN:VCALENDAR
VERSION:2.0
PRODID:-//eigenleben.de - ECPv6.3.5//NONSGML v1.0//EN
CALSCALE:GREGORIAN
METHOD:PUBLISH
X-ORIGINAL-URL:https://eigenleben.de
X-WR-CALDESC:Veranstaltungen für eigenleben.de
REFRESH-INTERVAL;VALUE=DURATION:PT1H
X-Robots-Tag:noindex
X-PUBLISHED-TTL:PT1H
BEGIN:VTIMEZONE
TZID:Europe/Berlin
BEGIN:DAYLIGHT
TZOFFSETFROM:+0100
TZOFFSETTO:+0200
TZNAME:CEST
DTSTART:20230326T010000
END:DAYLIGHT
BEGIN:STANDARD
TZOFFSETFROM:+0200
TZOFFSETTO:+0100
TZNAME:CET
DTSTART:20231029T010000
END:STANDARD
END:VTIMEZONE
BEGIN:VEVENT
DTSTART;TZID=Europe/Berlin:20231202T140000
DTEND;TZID=Europe/Berlin:20231202T153000
DTSTAMP:20260423T122755
CREATED:20220621T113109Z
LAST-MODIFIED:20250121T125128Z
UID:10000094-1701525600-1701531000@eigenleben.de
SUMMARY:Offener Singkreis
DESCRIPTION:Jeden ersten Samstag im Monat von 14 Uhr bis 15:30 Uhr bieten wir gemeinsam mit unserem Kooperationspartner und Förderer Retla e.V. ›› einen offenen Singkreis an. \nMitmachen kann\, wer will: Singen steigert das emotionale Wohlbefinden. Dabei werden Ängste und Stress abgebaut und depressive Zustände reduziert. Es macht den Weg frei für das persönliche Glück! \nSingen hilft zudem gegen das Vergessen – bei Demenz\, aber auch generell: Bei Älteren wecken die Lieder aus der Kindheit und Jugend  Lebensfreude und schöne Erinnerungen. Junge Leute lernen vielleicht bisher unbekanntes Kulturgut kennen. Daher sind alle Generationen herzlich eingeladen! Einzige Voraussetzung ist die Freude am Singen. \nAngeleitet wird der musikalische Nachmittag von Sophia Brokamp\, Studentin an der Musikhochschule. Wer Lust hat\, die Gruppe instrumental z.B. auf der Gitarre zu begleiten\, gibt gerne Bescheid. \nEs gibt Platz für insgesamt 10 Personen\, bitte meldet Euch rechtzeitig an bei Karin Georgi von Retla\, per Mail ›› oder Tel. 0176-60395468.
URL:https://eigenleben.de/event/offener-singkreis/2023-12-02/
LOCATION:Raum für eigenleben\, Kurfürstenstraße 2\, München\, 80799\, Deutschland
CATEGORIES:Kultur,Netzwerken & Austausch
ATTACH;FMTTYPE=image/jpeg:https://eigenleben.de/wp-content/uploads/2022/06/Singkreis-e1658232888610.jpg
ORGANIZER;CN="eigenleben.Club":MAILTO:club@eigenleben.de
END:VEVENT
END:VCALENDAR