BEGIN:VCALENDAR
VERSION:2.0
PRODID:-//eigenleben.de - ECPv6.3.5//NONSGML v1.0//EN
CALSCALE:GREGORIAN
METHOD:PUBLISH
X-WR-CALNAME:eigenleben.de
X-ORIGINAL-URL:https://eigenleben.de
X-WR-CALDESC:Veranstaltungen für eigenleben.de
REFRESH-INTERVAL;VALUE=DURATION:PT1H
X-Robots-Tag:noindex
X-PUBLISHED-TTL:PT1H
BEGIN:VTIMEZONE
TZID:Europe/Berlin
BEGIN:DAYLIGHT
TZOFFSETFROM:+0100
TZOFFSETTO:+0200
TZNAME:CEST
DTSTART:20230326T010000
END:DAYLIGHT
BEGIN:STANDARD
TZOFFSETFROM:+0200
TZOFFSETTO:+0100
TZNAME:CET
DTSTART:20231029T010000
END:STANDARD
END:VTIMEZONE
BEGIN:VEVENT
DTSTART;TZID=Europe/Berlin:20231005T173000
DTEND;TZID=Europe/Berlin:20231005T213000
DTSTAMP:20260421T112516
CREATED:20230914T152209Z
LAST-MODIFIED:20230927T225648Z
UID:10000351-1696527000-1696541400@eigenleben.de
SUMMARY:Heimatabend Finnland
DESCRIPTION:Hiidenvuori ist einer der unzähligen wunderschönen\, wild-romantischen Seen in Finnland. Foto: Susan Sihvola\nTervetuloa & Herzlich Willkommen!\n… zur Lesung mit Rene Schwarz über das Glück in Finnland mit passendem Glücks-Menü. \nGemeinsam mit der Deutsch-Finnischen-Gesellschaft München präsentiert eigenleben an ersten Donnerstag im Oktober ganz besondere Schmankerl: Literarisches und Kulinarisches aus Finnland.\nFür literarische Leckerbissen sorgt der deutsch-finnische Autor René Schwarz mit Beiträgen aus seinem Buch „Glücksorte in Helsinki“\, der Hauptstadt des glücklichsten Landes der Welt (so hat es der World Happiness Report der UN mehrere Jahre in Folge festgestellt). \nWer durch die Straßen dieser wunderbaren Stadt am Meer schlendert\, in den Parks das urbane Grün genießt oder eine Fahrt mit dem Wasserbus unternimmt\, spürt sofort\, warum die Menschen hier so gern leben. Das Glück wartet in gemütlichen Cafés\, spektakulären Rooftop-Bars und natürlich in der berühmten Saunakultur der Stadt. \nDie Lesung mit Beiträgen über diese glückliche Stadt beginnt um 18 Uhr und wird zwischen den Gängen fortgesetzt. \nDas Menü mit original finnischen Spezialitäten bietet die passenden Gaumenfreuden dazu: \n\nSnacks: „Ruischips“ Roggenchips mit gebeiztem Lachs oder mit Frischkäse (vegetarisch)\nLachssuppe oder vegetarische Pilzsuppe\nKarelischer Eintopf (Rindfleisch) oder vegetarisch: Steaks aus roten Beeten à la Lindström mit Kartoffelmus und Preiselbeeren\nBrotkäse mit Moltebeerenmarmelade („Juustoleipä lakkahillolla“)\n\nDas Menü mit Fleisch und Fisch kostet 48 €\, die vegetarische Version 39 € \nDa wir nur 30 Plätze anbieten können\, bitten wir um zeitnahe Anmeldung. \nDie Teilnahme erfolgt nur gegen Buchung und Vorauszahlung über unsere Buchungsplattform.\n \n\n\n            JavaScript ist in Ihrem Browser deaktiviert. Um unseren Ticket-Shop ohne JavaScript aufzurufen\, klicken Sie bitte hier.
URL:https://eigenleben.de/event/heimatabend-finnland/
LOCATION:Raum für eigenleben\, Kurfürstenstraße 2\, München\, 80799\, Deutschland
CATEGORIES:Essen & Trinken,Kultur,Literatur
ATTACH;FMTTYPE=image/jpeg:https://eigenleben.de/wp-content/uploads/2023/09/Hiidenvuori.jpg
ORGANIZER;CN="eigenleben.Club":MAILTO:club@eigenleben.de
END:VEVENT
END:VCALENDAR