BEGIN:VCALENDAR
VERSION:2.0
PRODID:-//eigenleben.de - ECPv6.3.5//NONSGML v1.0//EN
CALSCALE:GREGORIAN
METHOD:PUBLISH
X-WR-CALNAME:eigenleben.de
X-ORIGINAL-URL:https://eigenleben.de
X-WR-CALDESC:Veranstaltungen für eigenleben.de
REFRESH-INTERVAL;VALUE=DURATION:PT1H
X-Robots-Tag:noindex
X-PUBLISHED-TTL:PT1H
BEGIN:VTIMEZONE
TZID:Europe/Berlin
BEGIN:DAYLIGHT
TZOFFSETFROM:+0100
TZOFFSETTO:+0200
TZNAME:CEST
DTSTART:20300331T010000
END:DAYLIGHT
BEGIN:STANDARD
TZOFFSETFROM:+0200
TZOFFSETTO:+0100
TZNAME:CET
DTSTART:20301027T010000
END:STANDARD
END:VTIMEZONE
BEGIN:VEVENT
DTSTART;TZID=Europe/Berlin:20300305T153000
DTEND;TZID=Europe/Berlin:20300305T170000
DTSTAMP:20260423T000554
CREATED:20250331T163948Z
LAST-MODIFIED:20250331T170603Z
UID:10001051-1898955000-1898960400@eigenleben.de
SUMMARY:Sicher unterwegs im Digitalen Raum
DESCRIPTION:+++ AKTUELL AUSGESETZT WEGEN UMBAU +++\nSie wollten schon immer wissen\, wie das Internet grundsätzlich funktioniert und was man bezüglich der Informations-Sicherheit beachten sollte\, wenn man sich im Digitalen Raum bewegt um seine persönlichen Informationen zu schützen?\n\nUnsere Vorträge ‚Grundlagen der Informations-Sicherheit‘ bieten Wissen und Tipps zu diesen Themen:\n– Grundsätze der Informations-Sicherheit– Wie schützt die Datenschutzgrundverordnung die Internet-Nutzer?– Wie ist das Internet strukturiert?– Welche Zugänge zum Internet gibt es? Und was muss ich in Hinblick auf die Informations-Sicherheit beachten?– Was ist ein Internet Service Provider und was sollte ich bei der Wahl eines Internet-Providers beachten?– Welche Anmelde / Log-In Mechanismen gibt es und was sollte ich beim Log-In beachten?– Welche Möglichkeiten gibt es\, Zugangsdaten (Credentials) für den Log-In sicher zu nutzen und zu verwalten?\n\nBei weiteren Veranstaltungen geht es um:\n– World Wide Web (www)\, Browser\, Cookies– E-mail / Messenger Services– Cloud Services– Bezahlen mit analoger / digitaler Karte– Internet of Things – IoT\n\nDie Veranstaltung dauert 90 min.\n\nDie Grundlagen zur Informations-Sicherheit werden unabhängig von spezifischer Hardware und Software vermittelt\, es werden keine spezifischen Kenntnisse benötigt. Individuelle Fragen können im Anschluss in der Technik-Sprechstunde geklärt werden.\n\nDer Referent Günter Zimmek ist seit 1971 in der IT-Branche\, zunächst im Bereich Hardware\, später Systemsoftware und Anwendungssoftware-Entwicklung\, Projektmanagement\, Information-Security und seit 2007 als Referent für IT-Management tätig.\n\nDie Teilnahme erfolgt mit Anmeldung über die Website https://eigenleben.events oder hier im Workplace. Maximal 12 Teilnehmende\, Teilnahmegebühr: freiwillig. Wir empfehlen 5 €\, vor Ort zu zahlen.\n \n\n\n            JavaScript ist in Ihrem Browser deaktiviert. Um unseren Ticket-Shop ohne JavaScript aufzurufen\, klicken Sie bitte hier.
URL:https://eigenleben.de/event/sicher-im-digitalen-raum-2/2030-03-05/
LOCATION:auf Anfrage
CATEGORIES:Neue Medien
ATTACH;FMTTYPE=image/jpeg:https://eigenleben.de/wp-content/uploads/2024/05/438092619_1141771966968371_5808720628868212842_n.jpg
ORGANIZER;CN="eigenleben.Club":MAILTO:club@eigenleben.de
END:VEVENT
BEGIN:VEVENT
DTSTART;TZID=Europe/Berlin:20300305T170000
DTEND;TZID=Europe/Berlin:20300305T183000
DTSTAMP:20260423T000554
CREATED:20250331T165730Z
LAST-MODIFIED:20250331T170434Z
UID:10001056-1898960400-1898965800@eigenleben.de
SUMMARY:Individuelle Technik-Sprechstunde
DESCRIPTION:+++ AKTUELL AUSGESETZT WEGEN UMBAU +++ \nBei der Technik-Sprechstunde lösen wir gemeinsam Fragen\, die Ihr zu Eurem Gerät habt. Ob es sich um PC\, Laptop\, Mac\, Tablet\, Smartphone\, Netzwerk o.ä. handelt – zu dumme Fragen gibt es nicht. \nUnd wenn wir nicht weiter kommen\, geben wir Euch Tipps\, wo Euch sicher geholfen werden kann. \n\nDie Teilnahme ist kostenlos – wir sind dankbar für eine Spende für dieses und andere eigenleben-Projekte.\nWir bitten um rechtzeitige Anmeldung hier ›› auf dieser Seite (4 Tage Vorlauf sind optimal).\n \n\n\n            JavaScript ist in Ihrem Browser deaktiviert. Um unseren Ticket-Shop ohne JavaScript aufzurufen\, klicken Sie bitte hier.
URL:https://eigenleben.de/event/technik-sprechstunde-3/2030-03-05/
LOCATION:auf Anfrage
CATEGORIES:Netzwerken & Austausch,Neue Medien
ATTACH;FMTTYPE=image/jpeg:https://eigenleben.de/wp-content/uploads/2025/01/Handys-Michele_Susanne_Tom-700px.jpeg
ORGANIZER;CN="eigenleben.Club":MAILTO:club@eigenleben.de
END:VEVENT
BEGIN:VEVENT
DTSTART;TZID=Europe/Berlin:20300307T140000
DTEND;TZID=Europe/Berlin:20300307T153000
DTSTAMP:20260423T000554
CREATED:20250331T165443Z
LAST-MODIFIED:20250331T165443Z
UID:10001054-1899122400-1899127800@eigenleben.de
SUMMARY:Babylon bei eigenleben
DESCRIPTION:+++ NEUE LOCATION: „K6“ in der Karlstraße 6 +++ \nHello everyone\, bonjour à tous\, hola a todos\, ciao a tutti! \nAn einem Nachmittag quer durch Europa und die Welt reisen und sich mit anderen Sprachliebhaber:innen austauschen. \nFür unsere polyglotte Tafelrunde laden die Konversationsgruppen des eigenleben.Clubs in vier Sprachcafés ein: Ein monatlicher Treff für Alt und Jung\, für alle mit Freude an der englischen\, französischen\, italienischen und/oder spanischen Sprache\, die offen sind für neue Erfahrungen. Und die mit ein bisschen kreativem Wirrwarr im Kopf das Gehirn fit halten möchten. \nEine schöne Gelegenheit\, um nach Lust und Laune Abstecher in die verschiedenen Sprachen zu machen\, ohne das Land zu verlassen: Einfach den Tisch wechseln\, schon ist man in einer anderen Welt. \nFür Anfänger\, Fortgeschrittene und andere Liebhaber und natürlich für Muttersprachler\, die die Kultur ihres Heimatlands näher bringen möchten. \nBeginn ist um 14:00 Uhr zum Kennenlernen. Danach begibt man sich zum Tisch der Lieblingssprache. Bis 15:30 Uhr kann nach Herzenslust auf Englisch\, Französisch\, Spanisch oder Italienisch parliert werden. \nDer Eintritt ist frei – wir freuen uns sehr über eine Spende für dieses und andere eigenleben-Projekte!
URL:https://eigenleben.de/event/babylon-bei-eigenleben-4-2/2030-03-07/
LOCATION:K6 Karlstraße 6\, Karlstr. 6\, München\, Deutschland
CATEGORIES:Kultur,Netzwerken & Austausch,Reisen
ATTACH;FMTTYPE=image/jpeg:https://eigenleben.de/wp-content/uploads/2022/07/Babylon-920-Kopie.jpg
ORGANIZER;CN="eigenleben.Club":MAILTO:club@eigenleben.de
END:VEVENT
END:VCALENDAR