BEGIN:VCALENDAR
VERSION:2.0
PRODID:-//eigenleben.de - ECPv6.3.5//NONSGML v1.0//EN
CALSCALE:GREGORIAN
METHOD:PUBLISH
X-WR-CALNAME:eigenleben.de
X-ORIGINAL-URL:https://eigenleben.de
X-WR-CALDESC:Veranstaltungen für eigenleben.de
REFRESH-INTERVAL;VALUE=DURATION:PT1H
X-Robots-Tag:noindex
X-PUBLISHED-TTL:PT1H
BEGIN:VTIMEZONE
TZID:Europe/Berlin
BEGIN:DAYLIGHT
TZOFFSETFROM:+0100
TZOFFSETTO:+0200
TZNAME:CEST
DTSTART:20220327T010000
END:DAYLIGHT
BEGIN:STANDARD
TZOFFSETFROM:+0200
TZOFFSETTO:+0100
TZNAME:CET
DTSTART:20221030T010000
END:STANDARD
BEGIN:DAYLIGHT
TZOFFSETFROM:+0100
TZOFFSETTO:+0200
TZNAME:CEST
DTSTART:20230326T010000
END:DAYLIGHT
BEGIN:STANDARD
TZOFFSETFROM:+0200
TZOFFSETTO:+0100
TZNAME:CET
DTSTART:20231029T010000
END:STANDARD
BEGIN:DAYLIGHT
TZOFFSETFROM:+0100
TZOFFSETTO:+0200
TZNAME:CEST
DTSTART:20240331T010000
END:DAYLIGHT
BEGIN:STANDARD
TZOFFSETFROM:+0200
TZOFFSETTO:+0100
TZNAME:CET
DTSTART:20241027T010000
END:STANDARD
END:VTIMEZONE
BEGIN:VEVENT
DTSTART;TZID=Europe/Berlin:20221214T170000
DTEND;TZID=Europe/Berlin:20231213T180000
DTSTAMP:20260420T025359
CREATED:20220210T133738Z
LAST-MODIFIED:20240209T173617Z
UID:10000130-1671037200-1702490400@eigenleben.de
SUMMARY:Andrews Techniksprechstunde
DESCRIPTION:Beim IT-Treff von Andrew Murray werden alle Fragen beantwortet\, die du schon immer an einen Fachmann richten wolltest. Ob es sich um PC\, Laptop\, Mac\, Tablet\, Smartphone\, Netzwerk o.ä. handelt – zu dumme Fragen gibt es nicht\, verständliche Antworten sind garantiert! Auf Deutsch und auf Englisch. \nWir freuen uns auf Dich! \n\n \nWir bitten um eine Anmeldung hier auf dieser Seite:\n\n \n\n\n            JavaScript ist in Ihrem Browser deaktiviert. Um unseren Ticket-Shop ohne JavaScript aufzurufen\, klicken Sie bitte hier.
URL:https://eigenleben.de/event/andrews-techniksprechstunde-2-2022-05-11/2022-12-14/
LOCATION:Raum für eigenleben\, Kurfürstenstraße 2\, München\, 80799\, Deutschland
CATEGORIES:Netzwerken & Austausch,Neue Medien
ATTACH;FMTTYPE=image/jpeg:https://eigenleben.de/wp-content/uploads/2022/03/technik-andrew-1-1536x864-1.jpg
ORGANIZER;CN="eigenleben.Club":MAILTO:club@eigenleben.de
END:VEVENT
BEGIN:VEVENT
DTSTART;TZID=Europe/Berlin:20230111T170000
DTEND;TZID=Europe/Berlin:20240110T180000
DTSTAMP:20260420T025359
CREATED:20220210T133738Z
LAST-MODIFIED:20240209T173617Z
UID:10000131-1673456400-1704909600@eigenleben.de
SUMMARY:Andrews Techniksprechstunde
DESCRIPTION:Beim IT-Treff von Andrew Murray werden alle Fragen beantwortet\, die du schon immer an einen Fachmann richten wolltest. Ob es sich um PC\, Laptop\, Mac\, Tablet\, Smartphone\, Netzwerk o.ä. handelt – zu dumme Fragen gibt es nicht\, verständliche Antworten sind garantiert! Auf Deutsch und auf Englisch. \nWir freuen uns auf Dich! \n\n \nWir bitten um eine Anmeldung hier auf dieser Seite:\n\n \n\n\n            JavaScript ist in Ihrem Browser deaktiviert. Um unseren Ticket-Shop ohne JavaScript aufzurufen\, klicken Sie bitte hier.
URL:https://eigenleben.de/event/andrews-techniksprechstunde-2-2022-05-11/2023-01-11/
LOCATION:Raum für eigenleben\, Kurfürstenstraße 2\, München\, 80799\, Deutschland
CATEGORIES:Netzwerken & Austausch,Neue Medien
ATTACH;FMTTYPE=image/jpeg:https://eigenleben.de/wp-content/uploads/2022/03/technik-andrew-1-1536x864-1.jpg
ORGANIZER;CN="eigenleben.Club":MAILTO:club@eigenleben.de
END:VEVENT
BEGIN:VEVENT
DTSTART;TZID=Europe/Berlin:20230208T170000
DTEND;TZID=Europe/Berlin:20240207T180000
DTSTAMP:20260420T025359
CREATED:20220210T133738Z
LAST-MODIFIED:20240209T173617Z
UID:10000132-1675875600-1707328800@eigenleben.de
SUMMARY:Andrews Techniksprechstunde
DESCRIPTION:Beim IT-Treff von Andrew Murray werden alle Fragen beantwortet\, die du schon immer an einen Fachmann richten wolltest. Ob es sich um PC\, Laptop\, Mac\, Tablet\, Smartphone\, Netzwerk o.ä. handelt – zu dumme Fragen gibt es nicht\, verständliche Antworten sind garantiert! Auf Deutsch und auf Englisch. \nWir freuen uns auf Dich! \n\n \nWir bitten um eine Anmeldung hier auf dieser Seite:\n\n \n\n\n            JavaScript ist in Ihrem Browser deaktiviert. Um unseren Ticket-Shop ohne JavaScript aufzurufen\, klicken Sie bitte hier.
URL:https://eigenleben.de/event/andrews-techniksprechstunde-2-2022-05-11/2023-02-08/
LOCATION:Raum für eigenleben\, Kurfürstenstraße 2\, München\, 80799\, Deutschland
CATEGORIES:Netzwerken & Austausch,Neue Medien
ATTACH;FMTTYPE=image/jpeg:https://eigenleben.de/wp-content/uploads/2022/03/technik-andrew-1-1536x864-1.jpg
ORGANIZER;CN="eigenleben.Club":MAILTO:club@eigenleben.de
END:VEVENT
BEGIN:VEVENT
DTSTART;TZID=Europe/Berlin:20231202T140000
DTEND;TZID=Europe/Berlin:20231202T153000
DTSTAMP:20260420T025359
CREATED:20220621T113109Z
LAST-MODIFIED:20250121T125128Z
UID:10000094-1701525600-1701531000@eigenleben.de
SUMMARY:Offener Singkreis
DESCRIPTION:Jeden ersten Samstag im Monat von 14 Uhr bis 15:30 Uhr bieten wir gemeinsam mit unserem Kooperationspartner und Förderer Retla e.V. ›› einen offenen Singkreis an. \nMitmachen kann\, wer will: Singen steigert das emotionale Wohlbefinden. Dabei werden Ängste und Stress abgebaut und depressive Zustände reduziert. Es macht den Weg frei für das persönliche Glück! \nSingen hilft zudem gegen das Vergessen – bei Demenz\, aber auch generell: Bei Älteren wecken die Lieder aus der Kindheit und Jugend  Lebensfreude und schöne Erinnerungen. Junge Leute lernen vielleicht bisher unbekanntes Kulturgut kennen. Daher sind alle Generationen herzlich eingeladen! Einzige Voraussetzung ist die Freude am Singen. \nAngeleitet wird der musikalische Nachmittag von Sophia Brokamp\, Studentin an der Musikhochschule. Wer Lust hat\, die Gruppe instrumental z.B. auf der Gitarre zu begleiten\, gibt gerne Bescheid. \nEs gibt Platz für insgesamt 10 Personen\, bitte meldet Euch rechtzeitig an bei Karin Georgi von Retla\, per Mail ›› oder Tel. 0176-60395468.
URL:https://eigenleben.de/event/offener-singkreis/2023-12-02/
LOCATION:Raum für eigenleben\, Kurfürstenstraße 2\, München\, 80799\, Deutschland
CATEGORIES:Kultur,Netzwerken & Austausch
ATTACH;FMTTYPE=image/jpeg:https://eigenleben.de/wp-content/uploads/2022/06/Singkreis-e1658232888610.jpg
ORGANIZER;CN="eigenleben.Club":MAILTO:club@eigenleben.de
END:VEVENT
BEGIN:VEVENT
DTSTART;TZID=Europe/Berlin:20231214T190000
DTEND;TZID=Europe/Berlin:20231214T200000
DTSTAMP:20260420T025359
CREATED:20221021T114007Z
LAST-MODIFIED:20240226T172825Z
UID:10000502-1702580400-1702584000@eigenleben.de
SUMMARY:Online-Sprachcafé Italienisch
DESCRIPTION:Riprendiamo la conversazione italiana online una volta al mese\, sempre il secondo giovedì alle 7 di sera.\nPer giungerci per favore usate il link https://meet.ffmuc.net/sprachcafe-it (aprendolo via Google Chrome per evitare problemi tecnici!)\nSullo smartphone oppure sul tablet usate l’app Jitsi (attenzione: sotto »Einstellungen« al »Server URL« scegliere : https://meet.ffmuc.net )\n\nSpero di vedervi numerosi*e!\nUlrike
URL:https://eigenleben.de/event/online-sprachcafe-italienisch-2022-12-22/2023-12-14/
LOCATION:online über Freifunk: https://meet.ffmuc.net/sprachcafe-IT
CATEGORIES:Netzwerken & Austausch
ATTACH;FMTTYPE=image/jpeg:https://eigenleben.de/wp-content/uploads/2022/03/Sprachcafe-IT.jpg
ORGANIZER;CN="eigenleben.Club":MAILTO:club@eigenleben.de
END:VEVENT
BEGIN:VEVENT
DTSTART;TZID=Europe/Berlin:20231214T190000
DTEND;TZID=Europe/Berlin:20231214T200000
DTSTAMP:20260420T025359
CREATED:20240226T172308Z
LAST-MODIFIED:20240226T172309Z
UID:10000034-1702580400-1702584000@eigenleben.de
SUMMARY:Online-Sprachcafé Italienisch
DESCRIPTION:Riprendiamo la conversazione italiana online una volta al mese\, sempre il secondo giovedì alle 7 di sera.\nPer giungerci per favore usate il link https://meet.ffmuc.net/sprachcafe-it (aprendolo via Google Chrome per evitare problemi tecnici!)\nSullo smartphone oppure sul tablet usate l’app Jitsi (attenzione: sotto »Einstellungen« al »Server URL« scegliere : https://meet.ffmuc.net )\n\nSpero di vedervi numerosi*e!\nUlrike
URL:https://eigenleben.de/event/online-sprachcafe-italienisch-2022-12-22-2/
LOCATION:online über Freifunk: https://meet.ffmuc.net/sprachcafe-IT
CATEGORIES:Netzwerken & Austausch
ATTACH;FMTTYPE=image/jpeg:https://eigenleben.de/wp-content/uploads/2022/03/Sprachcafe-IT.jpg
ORGANIZER;CN="eigenleben.Club":MAILTO:club@eigenleben.de
END:VEVENT
BEGIN:VEVENT
DTSTART;TZID=Europe/Berlin:20231216T130000
DTEND;TZID=Europe/Berlin:20231216T153000
DTSTAMP:20260420T025359
CREATED:20231207T111758Z
LAST-MODIFIED:20231207T113751Z
UID:10000353-1702731600-1702740600@eigenleben.de
SUMMARY:Unser Strick-Treff
DESCRIPTION:Mit den eigenen Händen etwas Schönes und Nützliches zu erschaffen\, für sich oder die Lieben\, ist ein beglückendes Gefühl … und es entspannt und trainiert Körper und Geist. \nEine Bitte:\nDer Raum für eigenleben wurde geschaffen\, damit Eigenlebende und andere wunderbare Menschen im Café/Restaurant und für Veranstaltungen dieser Art zusammenkommen können. Aber ohne Umsatz können wir nicht existieren.\nBitte unterstützt unser Projekt\, indem Ihr bei Eurem Besuch viel bestellt\, schmaust und genießt! Das Team des eigenleben-Lokals gibt alles\, damit Ihr es Euch so richtig gut gehen lassen könnt. \nAnmelden bitte gleich hier:\n\n \n\n\n            JavaScript ist in Ihrem Browser deaktiviert. Um unseren Ticket-Shop ohne JavaScript aufzurufen\, klicken Sie bitte hier.
URL:https://eigenleben.de/event/strick-treff-mit-andrea-4-2/2023-12-16/
LOCATION:Raum für eigenleben\, Kurfürstenstraße 2\, München\, 80799\, Deutschland
CATEGORIES:Netzwerken & Austausch,Selbst machen
ATTACH;FMTTYPE=image/jpeg:https://eigenleben.de/wp-content/uploads/2023/09/381554352_697800318864178_8707065481985753569_n.jpg
ORGANIZER;CN="eigenleben.Club":MAILTO:club@eigenleben.de
END:VEVENT
BEGIN:VEVENT
DTSTART;TZID=Europe/Berlin:20231216T140000
DTEND;TZID=Europe/Berlin:20231216T153000
DTSTAMP:20260420T025359
CREATED:20240118T114237Z
LAST-MODIFIED:20240118T151949Z
UID:10000483-1702735200-1702740600@eigenleben.de
SUMMARY:Babylon bei eigenleben
DESCRIPTION:Hello everyone\, bonjour à tous\, hola a todos\, ciao a tutti! \nAn einem Nachmittag quer durch Europa und die Welt reisen und sich mit anderen Sprachliebhaber:innen austauschen. \nFür unsere polyglotte Tafelrunde laden die Konversationsgruppen des eigenleben.Clubs in vier Sprachcafés ein: Ein monatlicher Treff für Alt und Jung\, für alle mit Freude an der englischen\, französischen\, italienischen und/oder spanischen Sprache\, die offen sind für neue Erfahrungen und mit ein bisschen kreativem Wirrwarr im Kopf das Gehirn fit halten möchten. \nEine schöne Gelegenheit\, um nach Lust und Laune Abstecher in die verschiedenen Sprachen zu machen\, ohne das Land zu verlassen: Einfach den Tisch wechseln\, schon ist man in einer anderen Welt. \nFür Anfänger\, Fortgeschrittene und andere Liebhaber und natürlich für Muttersprachler\, die die Kultur ihres Heimatlands näher bringen können. \nBeginn ist um 13:00 Uhr mit einem gemeinsamen Essen im Restaurant zum Kennenlernen. Danach begibt man sich zum Tisch der Lieblingssprache. Bis 15:30 Uhr kann nach Herzenslust auf Englisch\, Französisch\, Spanisch oder Italienisch parliert werden. \nDer Eintritt ist frei. Aber eine Bitte: Um Veranstaltungen wie diese weiterhin ohne Eintritt im Raum für eigenleben anbieten zu können\, bitten wir Euch viel Essen und Trinken zu bestellen! \nDa die Plätze begrenzt sind\, bitten wir um rechtzeitige Anmeldung hier ››\n\n \n\n\n            JavaScript ist in Ihrem Browser deaktiviert. Um unseren Ticket-Shop ohne JavaScript aufzurufen\, klicken Sie bitte hier.
URL:https://eigenleben.de/event/babylon-bei-eigenleben-2/2023-12-16/
LOCATION:Raum für eigenleben\, Kurfürstenstraße 2\, München\, 80799\, Deutschland
CATEGORIES:Kultur,Netzwerken & Austausch,Reisen
ATTACH;FMTTYPE=image/jpeg:https://eigenleben.de/wp-content/uploads/2022/07/Babylon-920-Kopie.jpg
ORGANIZER;CN="eigenleben.Club":MAILTO:club@eigenleben.de
END:VEVENT
BEGIN:VEVENT
DTSTART;TZID=Europe/Berlin:20231220T150000
DTEND;TZID=Europe/Berlin:20231220T170000
DTSTAMP:20260420T025359
CREATED:20230805T103025Z
LAST-MODIFIED:20230805T103026Z
UID:10000295-1703084400-1703091600@eigenleben.de
SUMMARY:eigenleben.Salon – das Netzwerktreffen der Eigenlebenden
DESCRIPTION:Die Eigenlebenden sind ein Netzwerk von jungen Leuten von früher und heute\, die Lust haben an intergenerationaler Begegnung\, aktivem Engagement und kreativen Ideen. Einmal im Monat treffen wir uns\, um neueste Entwicklungen und Pläne im eigenleben.Club zu besprechen. Natürlich dabei: Ein genussvoller Austausch in angenehmer Gesellschaft. \nNoch kein Mitglied im eigenleben.Club? Kein Problem! Einfach bei Interesse bitte mit einer kurzen Mail an dabeisein@eigenleben.jetzt melden und reinschnuppern. Wir freuen uns! \n  \n\nDabeisein/Join here: Café eigenleben\, Kurfürstenstraße 2\, 80799 München \nDas Portal eigenleben.jetzt\, der eigenleben.Club und alle anderen eigenleben-Projekte sind für »Free Ager« zum Mitmachen\, um sich mit Gleichgesinnten aller Altersgruppen auszutauschen\, Ideen zu teilen und gemeinsam umzusetzen und Raum zu haben – online und wann immer möglich offline – für alles\, was uns interessiert.
URL:https://eigenleben.de/event/eigenleben-salon-das-netzwerktreffen-der-eigenlebenden-15-03-faellt-leider-aus-2/2023-12-20/
LOCATION:Raum für eigenleben\, Kurfürstenstraße 2\, München\, 80799\, Deutschland
CATEGORIES:Netzwerken & Austausch
ATTACH;FMTTYPE=image/jpeg:https://eigenleben.de/wp-content/uploads/2022/03/Cafe-Eigenleben-Haerdtlein_Nr1-1024x684-1.jpg
ORGANIZER;CN="eigenleben.Club":MAILTO:club@eigenleben.de
END:VEVENT
BEGIN:VEVENT
DTSTART;TZID=Europe/Berlin:20231228T190000
DTEND;TZID=Europe/Berlin:20231228T200000
DTSTAMP:20260420T025359
CREATED:20221021T114424Z
LAST-MODIFIED:20240226T173412Z
UID:10000515-1703790000-1703793600@eigenleben.de
SUMMARY:Online-Sprachcafé Französisch
DESCRIPTION:Une fois par mois on se verra en ligne pour la conversation française (le quatrième jeudi de chaque mois à 7 h du soir).\nLe lien pour joindre la conversation est toujours le même :\nhttps://meet.ffmuc.net/sprachcafe-fr\nIl suffit de cliquer sur le lien par le browser Google Chrome (pour éviter les problèmes techniques n’utilisez pas un autre browser\, s’il vous plaît!)\nSur votre smartphone ou tablet utilisez l’app Jitsi (attention: sous »Einstellungen« au »Server URL« saisir : https://meet.ffmuc.net )\n\nJe serai contente de vous voir. A bientôt!\nUlrike
URL:https://eigenleben.de/event/online-sprachcafe-franzoesisch/2023-12-28/
LOCATION:online über Freifunk: https://meet.ffmuc.net/sprachcafe-FR
ATTACH;FMTTYPE=image/jpeg:https://eigenleben.de/wp-content/uploads/2022/03/Sprachcafe-FR.jpg
END:VEVENT
BEGIN:VEVENT
DTSTART;TZID=Europe/Berlin:20231228T190000
DTEND;TZID=Europe/Berlin:20231228T200000
DTSTAMP:20260420T025359
CREATED:20240226T172052Z
LAST-MODIFIED:20240226T172053Z
UID:10000052-1703790000-1703793600@eigenleben.de
SUMMARY:Online-Sprachcafé Französisch
DESCRIPTION:Une fois par mois on se verra en ligne pour la conversation française (le quatrième jeudi de chaque mois à 7 h du soir).\nLe lien pour joindre la conversation est toujours le même :\nhttps://meet.ffmuc.net/sprachcafe-fr\nIl suffit de cliquer sur le lien par le browser Google Chrome (pour éviter les problèmes techniques n’utilisez pas un autre browser\, s’il vous plaît!)\nSur votre smartphone ou tablet utilisez l’app Jitsi (attention: sous »Einstellungen« au »Server URL« saisir : https://meet.ffmuc.net )\n\nJe serai contente de vous voir. A bientôt!\nUlrike
URL:https://eigenleben.de/event/online-sprachcafe-franzoesisch-3/
LOCATION:online über Freifunk: https://meet.ffmuc.net/sprachcafe-FR
ATTACH;FMTTYPE=image/jpeg:https://eigenleben.de/wp-content/uploads/2022/03/Sprachcafe-FR.jpg
END:VEVENT
END:VCALENDAR