BEGIN:VCALENDAR
VERSION:2.0
PRODID:-//eigenleben.de - ECPv6.3.5//NONSGML v1.0//EN
CALSCALE:GREGORIAN
METHOD:PUBLISH
X-WR-CALNAME:eigenleben.de
X-ORIGINAL-URL:https://eigenleben.de
X-WR-CALDESC:Veranstaltungen für eigenleben.de
REFRESH-INTERVAL;VALUE=DURATION:PT1H
X-Robots-Tag:noindex
X-PUBLISHED-TTL:PT1H
BEGIN:VTIMEZONE
TZID:Europe/Berlin
BEGIN:DAYLIGHT
TZOFFSETFROM:+0100
TZOFFSETTO:+0200
TZNAME:CEST
DTSTART:20220327T010000
END:DAYLIGHT
BEGIN:STANDARD
TZOFFSETFROM:+0200
TZOFFSETTO:+0100
TZNAME:CET
DTSTART:20221030T010000
END:STANDARD
BEGIN:DAYLIGHT
TZOFFSETFROM:+0100
TZOFFSETTO:+0200
TZNAME:CEST
DTSTART:20230326T010000
END:DAYLIGHT
BEGIN:STANDARD
TZOFFSETFROM:+0200
TZOFFSETTO:+0100
TZNAME:CET
DTSTART:20231029T010000
END:STANDARD
END:VTIMEZONE
BEGIN:VEVENT
DTSTART;TZID=Europe/Berlin:20220511T170000
DTEND;TZID=Europe/Berlin:20230510T180000
DTSTAMP:20260421T155442
CREATED:20220210T133738Z
LAST-MODIFIED:20240209T173617Z
UID:10000123-1652288400-1683741600@eigenleben.de
SUMMARY:Andrews Techniksprechstunde
DESCRIPTION:Beim IT-Treff von Andrew Murray werden alle Fragen beantwortet\, die du schon immer an einen Fachmann richten wolltest. Ob es sich um PC\, Laptop\, Mac\, Tablet\, Smartphone\, Netzwerk o.ä. handelt – zu dumme Fragen gibt es nicht\, verständliche Antworten sind garantiert! Auf Deutsch und auf Englisch. \nWir freuen uns auf Dich! \n\n \nWir bitten um eine Anmeldung hier auf dieser Seite:\n\n \n\n\n            JavaScript ist in Ihrem Browser deaktiviert. Um unseren Ticket-Shop ohne JavaScript aufzurufen\, klicken Sie bitte hier.
URL:https://eigenleben.de/event/andrews-techniksprechstunde-2-2022-05-11/2022-05-11/
LOCATION:Raum für eigenleben\, Kurfürstenstraße 2\, München\, 80799\, Deutschland
CATEGORIES:Netzwerken & Austausch,Neue Medien
ATTACH;FMTTYPE=image/jpeg:https://eigenleben.de/wp-content/uploads/2022/03/technik-andrew-1-1536x864-1.jpg
ORGANIZER;CN="eigenleben.Club":MAILTO:club@eigenleben.de
END:VEVENT
BEGIN:VEVENT
DTSTART;TZID=Europe/Berlin:20220608T170000
DTEND;TZID=Europe/Berlin:20230607T180000
DTSTAMP:20260421T155442
CREATED:20220210T133738Z
LAST-MODIFIED:20240209T173617Z
UID:10000124-1654707600-1686160800@eigenleben.de
SUMMARY:Andrews Techniksprechstunde
DESCRIPTION:Beim IT-Treff von Andrew Murray werden alle Fragen beantwortet\, die du schon immer an einen Fachmann richten wolltest. Ob es sich um PC\, Laptop\, Mac\, Tablet\, Smartphone\, Netzwerk o.ä. handelt – zu dumme Fragen gibt es nicht\, verständliche Antworten sind garantiert! Auf Deutsch und auf Englisch. \nWir freuen uns auf Dich! \n\n \nWir bitten um eine Anmeldung hier auf dieser Seite:\n\n \n\n\n            JavaScript ist in Ihrem Browser deaktiviert. Um unseren Ticket-Shop ohne JavaScript aufzurufen\, klicken Sie bitte hier.
URL:https://eigenleben.de/event/andrews-techniksprechstunde-2-2022-05-11/2022-06-08/
LOCATION:Raum für eigenleben\, Kurfürstenstraße 2\, München\, 80799\, Deutschland
CATEGORIES:Netzwerken & Austausch,Neue Medien
ATTACH;FMTTYPE=image/jpeg:https://eigenleben.de/wp-content/uploads/2022/03/technik-andrew-1-1536x864-1.jpg
ORGANIZER;CN="eigenleben.Club":MAILTO:club@eigenleben.de
END:VEVENT
BEGIN:VEVENT
DTSTART;TZID=Europe/Berlin:20220701T190000
DTEND;TZID=Europe/Berlin:20220701T210000
DTSTAMP:20260421T155442
CREATED:20220303T144321Z
LAST-MODIFIED:20230405T085752Z
UID:10000095-1656702000-1656709200@eigenleben.de
SUMMARY:Punkt\, Punkt\, Komma\, Strich? Pünktchen\, Anton\, Taste\, Streich! - Philosophie & Piano
DESCRIPTION:16 Nachdenkereien und eine Schachtel voller Merkwürdigkeiten. Eine Soirée mit Ronald J. Autenrieth (Pianist\, Komponist) und Dr. Jochen König (Philosoph\, Dosist) rund um das Buch „Pünktchen und Anton“ von Erich Kästner.\nErich Kästner  schob in seinem Kinderroman „Pünktchen und Anton“ nach jedem Kapitel eine „Nachdenkerei“ ein. Darin greift er einen Aspekt des Kapitels auf\, etwa zu den Themen Freundschaft\, Mut\, Lüge\, Pflicht\, Neugierde\, Selbstbeherrschung\, aber auch zu den Schweinehunden. Das Buch erschien 1932 und viele der Weisheiten sind auch heute noch stimmig\, andere können kritisch diskutiert werden. \n  \nGenau dies wird Jochen König tun. Ronald J. Autenrieth nimmt sich einigen dieser Themen in musikalischer Form an und zelebriert Interpretationen zu diesen existenziellen Fragen auf dem Piano.  Dabei kommen überwiegend Klavierstücke von Komponisten des 20. Jahrhunderts sowie eigene Werke Autenrieths zu Gehör. \n  \nZuhören\, mitdenken\, mitreden\, genießen\, sich inspirieren lassen – Sie sind eingeladen\, diesen Abend so zu erleben\, wie es Ihnen gemäß ist. Buchstabensuppennudeln und Russisch Brot sind unverzichtbare Accessoires dieser Performance.  Und: Die Schachtel voller Merkwürdigkeiten ist eine Überraschung\, die es in sich hat. \n\nDie Plätze sind begrenzt. Bitte melden Sie sich an über: https://ticket.eigenleben.jetzt/lbmjz/\n \n\n  \nRonald J. Autenrieth (im Bild rechts\, sitzend)\, Jahrgang 1959\, Pianist\, Komponist\, Dozent\, Equiist. Lebt in Beerfelden/hessischer Odenwald. Veröffentlichungen in zahlreichen Verlagen (Moeck\, Holzschuh\, Böhm\, Hofmeister etc.) sowie unter www.ronald-autenrieth.de \nJochen König (im Bild links)\, Jahrgang 1962\, Philosoph\, Marketing-Experte\, Dozent\, Dosist (Kunstrichtung in Nachfolge des Dadaismus).Veröffentlichungen: Buch „LX/60-Philosophie“;  150 Ausgaben der Zeitschrift „Das Dosierte Leben“. Lebt in Heidelberg. \n\n\n 
URL:https://eigenleben.de/event/punkt-punkt-komma-strich-puenktchen-anton-taste-streich-philosophie-piano/
LOCATION:Raum für eigenleben\, Kurfürstenstraße 2\, München\, 80799\, Deutschland
CATEGORIES:Kultur,Literatur,Musik
ATTACH;FMTTYPE=image/jpeg:https://eigenleben.de/wp-content/uploads/2022/03/Koenig-Autenrieth-sitzend-454x700-1.jpg
ORGANIZER;CN="eigenleben.Club":MAILTO:club@eigenleben.de
END:VEVENT
BEGIN:VEVENT
DTSTART;TZID=Europe/Berlin:20220702T140000
DTEND;TZID=Europe/Berlin:20220702T153000
DTSTAMP:20260421T155442
CREATED:20220621T113109Z
LAST-MODIFIED:20250121T125128Z
UID:10000077-1656770400-1656775800@eigenleben.de
SUMMARY:Offener Singkreis
DESCRIPTION:Jeden ersten Samstag im Monat von 14 Uhr bis 15:30 Uhr bieten wir gemeinsam mit unserem Kooperationspartner und Förderer Retla e.V. ›› einen offenen Singkreis an. \nMitmachen kann\, wer will: Singen steigert das emotionale Wohlbefinden. Dabei werden Ängste und Stress abgebaut und depressive Zustände reduziert. Es macht den Weg frei für das persönliche Glück! \nSingen hilft zudem gegen das Vergessen – bei Demenz\, aber auch generell: Bei Älteren wecken die Lieder aus der Kindheit und Jugend  Lebensfreude und schöne Erinnerungen. Junge Leute lernen vielleicht bisher unbekanntes Kulturgut kennen. Daher sind alle Generationen herzlich eingeladen! Einzige Voraussetzung ist die Freude am Singen. \nAngeleitet wird der musikalische Nachmittag von Sophia Brokamp\, Studentin an der Musikhochschule. Wer Lust hat\, die Gruppe instrumental z.B. auf der Gitarre zu begleiten\, gibt gerne Bescheid. \nEs gibt Platz für insgesamt 10 Personen\, bitte meldet Euch rechtzeitig an bei Karin Georgi von Retla\, per Mail ›› oder Tel. 0176-60395468.
URL:https://eigenleben.de/event/offener-singkreis/2022-07-02/
LOCATION:Raum für eigenleben\, Kurfürstenstraße 2\, München\, 80799\, Deutschland
CATEGORIES:Kultur,Netzwerken & Austausch
ATTACH;FMTTYPE=image/jpeg:https://eigenleben.de/wp-content/uploads/2022/06/Singkreis-e1658232888610.jpg
ORGANIZER;CN="eigenleben.Club":MAILTO:club@eigenleben.de
END:VEVENT
BEGIN:VEVENT
DTSTART;TZID=Europe/Berlin:20220713T170000
DTEND;TZID=Europe/Berlin:20230712T180000
DTSTAMP:20260421T155442
CREATED:20220210T133738Z
LAST-MODIFIED:20240209T173617Z
UID:10000125-1657731600-1689184800@eigenleben.de
SUMMARY:Andrews Techniksprechstunde
DESCRIPTION:Beim IT-Treff von Andrew Murray werden alle Fragen beantwortet\, die du schon immer an einen Fachmann richten wolltest. Ob es sich um PC\, Laptop\, Mac\, Tablet\, Smartphone\, Netzwerk o.ä. handelt – zu dumme Fragen gibt es nicht\, verständliche Antworten sind garantiert! Auf Deutsch und auf Englisch. \nWir freuen uns auf Dich! \n\n \nWir bitten um eine Anmeldung hier auf dieser Seite:\n\n \n\n\n            JavaScript ist in Ihrem Browser deaktiviert. Um unseren Ticket-Shop ohne JavaScript aufzurufen\, klicken Sie bitte hier.
URL:https://eigenleben.de/event/andrews-techniksprechstunde-2-2022-05-11/2022-07-13/
LOCATION:Raum für eigenleben\, Kurfürstenstraße 2\, München\, 80799\, Deutschland
CATEGORIES:Netzwerken & Austausch,Neue Medien
ATTACH;FMTTYPE=image/jpeg:https://eigenleben.de/wp-content/uploads/2022/03/technik-andrew-1-1536x864-1.jpg
ORGANIZER;CN="eigenleben.Club":MAILTO:club@eigenleben.de
END:VEVENT
BEGIN:VEVENT
DTSTART;TZID=Europe/Berlin:20220715T180000
DTEND;TZID=Europe/Berlin:20220715T220000
DTSTAMP:20260421T155442
CREATED:20220621T114831Z
LAST-MODIFIED:20230405T085729Z
UID:10000076-1657908000-1657922400@eigenleben.de
SUMMARY:Wer war Hermann Frieb?
DESCRIPTION:Die Antwort gibt es an einem Abend über den Arbeiterwiderstand gegen den Faschismus in München und Burghausen: Am Freitag\, den 15. Juli um 18 Uhr geht es los mit einem Vortrag von Max Brym\, Geschichtsdozent\, Journalist und Autor mehrerer Bücher. \nAnschließend zeigen wir den Film »Das rote Burghausen«\, erstellt von Jugendlichen aus dem südost-oberbayerischen Chemiedreieck. \nZum Abschluss des Abends gibt es eine offene Diskussionsrunde mit Max Brym und Jonas Volgger\, dem Regisseur des Films. \nHierbei sei bereits hingewiesen auf unsere Sperrstunde um 22 Uhr …  😉 \nEine Anmeldung ist nicht nötig\, nur etwas Glück: denn maximal 30 Gäste passen ins Lokal. Der Eintritt ist frei\, wir freuen uns über zahlreiche Bestellungen von Speis und Trank.
URL:https://eigenleben.de/event/wer-war-hermann-frieb/
LOCATION:Raum für eigenleben\, Kurfürstenstraße 2\, München\, 80799\, Deutschland
CATEGORIES:Kultur,Literatur
ATTACH;FMTTYPE=image/jpeg:https://eigenleben.de/wp-content/uploads/2022/06/Max-Brym.jpg
ORGANIZER;CN="eigenleben.Club":MAILTO:club@eigenleben.de
END:VEVENT
BEGIN:VEVENT
DTSTART;TZID=Europe/Berlin:20220722T190000
DTEND;TZID=Europe/Berlin:20220722T210000
DTSTAMP:20260421T155442
CREATED:20220628T122302Z
LAST-MODIFIED:20230405T085718Z
UID:10000075-1658516400-1658523600@eigenleben.de
SUMMARY:Lesung mit unserer Autorin Barbara Pinheiro
DESCRIPTION:Ein Abend mit Texten unserer Autorin Barbara Pinheiro – oft skurril\, meistens tiefsinnig\, immer überraschend. \nWunderbare Beispiele ihrer Arbeit gibt es auch voher schon in unserem eigenleben.jetzt Magazin .
URL:https://eigenleben.de/event/ein-lesung-mit-unserer-autorin-barbara-pinheiro/
LOCATION:Raum für eigenleben\, Kurfürstenstraße 2\, München\, 80799\, Deutschland
CATEGORIES:Kultur,Literatur
ATTACH;FMTTYPE=image/jpeg:https://eigenleben.de/wp-content/uploads/2022/06/Barbara-Pinheiro-Vergehendes.jpg
ORGANIZER;CN="eigenleben.Club":MAILTO:club@eigenleben.de
END:VEVENT
END:VCALENDAR