BEGIN:VCALENDAR
VERSION:2.0
PRODID:-//eigenleben.de - ECPv6.3.5//NONSGML v1.0//EN
CALSCALE:GREGORIAN
METHOD:PUBLISH
X-ORIGINAL-URL:https://eigenleben.de
X-WR-CALDESC:Veranstaltungen für eigenleben.de
REFRESH-INTERVAL;VALUE=DURATION:PT1H
X-Robots-Tag:noindex
X-PUBLISHED-TTL:PT1H
BEGIN:VTIMEZONE
TZID:Europe/Berlin
BEGIN:DAYLIGHT
TZOFFSETFROM:+0100
TZOFFSETTO:+0200
TZNAME:CEST
DTSTART:20250330T010000
END:DAYLIGHT
BEGIN:STANDARD
TZOFFSETFROM:+0200
TZOFFSETTO:+0100
TZNAME:CET
DTSTART:20251026T010000
END:STANDARD
END:VTIMEZONE
BEGIN:VEVENT
DTSTART;TZID=Europe/Berlin:20250207T150000
DTEND;TZID=Europe/Berlin:20250207T170000
DTSTAMP:20260419T180213
CREATED:20250127T142532Z
LAST-MODIFIED:20250127T142532Z
UID:10001049-1738940400-1738947600@eigenleben.de
SUMMARY:Lesung von Thomas J. Hauck: Der Fisch der zu ihm gesprochen hatte
DESCRIPTION:HERZLICHE EINLADUNG zu meiner Lesung \nDER FISCH DER ZU IHM GESPROCHEN HATTE \nam 7.Februar um 15:00 Uhr ins eigenleben-Raum für eigenleben mit Speisecafe-\nKurfürstenstr.2\n80799 München\nTel.Nr. 089.23684400 \nEs gibt\, entsprechend der Uhrzeit\, wunderfeinsten Kuchen und Espresso und dazu Literatur! \nEs ist auch gleichzeit das Ende meiner Ausstellung hier in diesen herrlichen Räumen\, die letzte Möglichkeit also\, meine Bilder zu\nbetrachten und zu geniesen! \nEin Erlebnis für Augen\, Ohren und Gaumen! \nIch freue mich sehr über EUER KOMMEN. \nBeste Grüße\,\nThomas J. Hauck
URL:https://eigenleben.de/event/lesung-von-thomas-j-hauck-der-fisch-der-zu-ihm-gesprochen-hatte/
LOCATION:Raum für eigenleben\, Kurfürstenstraße 2\, München\, 80799\, Deutschland
CATEGORIES:Literatur
ATTACH;FMTTYPE=image/jpeg:https://eigenleben.de/wp-content/uploads/2025/01/Thomas-J-Hauck-Fisch.jpg
ORGANIZER;CN="Marli Bossert Stiftung e.V.":MAILTO:info@marli-bossert-stiftung.de
END:VEVENT
END:VCALENDAR