BEGIN:VCALENDAR
VERSION:2.0
PRODID:-//eigenleben.de - ECPv6.3.5//NONSGML v1.0//EN
CALSCALE:GREGORIAN
METHOD:PUBLISH
X-ORIGINAL-URL:https://eigenleben.de
X-WR-CALDESC:Veranstaltungen für eigenleben.de
REFRESH-INTERVAL;VALUE=DURATION:PT1H
X-Robots-Tag:noindex
X-PUBLISHED-TTL:PT1H
BEGIN:VTIMEZONE
TZID:Europe/Berlin
BEGIN:DAYLIGHT
TZOFFSETFROM:+0100
TZOFFSETTO:+0200
TZNAME:CEST
DTSTART:20220327T010000
END:DAYLIGHT
BEGIN:STANDARD
TZOFFSETFROM:+0200
TZOFFSETTO:+0100
TZNAME:CET
DTSTART:20221030T010000
END:STANDARD
BEGIN:DAYLIGHT
TZOFFSETFROM:+0100
TZOFFSETTO:+0200
TZNAME:CEST
DTSTART:20230326T010000
END:DAYLIGHT
BEGIN:STANDARD
TZOFFSETFROM:+0200
TZOFFSETTO:+0100
TZNAME:CET
DTSTART:20231029T010000
END:STANDARD
BEGIN:DAYLIGHT
TZOFFSETFROM:+0100
TZOFFSETTO:+0200
TZNAME:CEST
DTSTART:20240331T010000
END:DAYLIGHT
BEGIN:STANDARD
TZOFFSETFROM:+0200
TZOFFSETTO:+0100
TZNAME:CET
DTSTART:20241027T010000
END:STANDARD
END:VTIMEZONE
BEGIN:VEVENT
DTSTART;TZID=Europe/Berlin:20220511T170000
DTEND;TZID=Europe/Berlin:20230510T180000
DTSTAMP:20260419T160538
CREATED:20220210T133738Z
LAST-MODIFIED:20240209T173617Z
UID:10000123-1652288400-1683741600@eigenleben.de
SUMMARY:Andrews Techniksprechstunde
DESCRIPTION:Beim IT-Treff von Andrew Murray werden alle Fragen beantwortet\, die du schon immer an einen Fachmann richten wolltest. Ob es sich um PC\, Laptop\, Mac\, Tablet\, Smartphone\, Netzwerk o.ä. handelt – zu dumme Fragen gibt es nicht\, verständliche Antworten sind garantiert! Auf Deutsch und auf Englisch. \nWir freuen uns auf Dich! \n\n \nWir bitten um eine Anmeldung hier auf dieser Seite:\n\n \n\n\n            JavaScript ist in Ihrem Browser deaktiviert. Um unseren Ticket-Shop ohne JavaScript aufzurufen\, klicken Sie bitte hier.
URL:https://eigenleben.de/event/andrews-techniksprechstunde-2-2022-05-11/2022-05-11/
LOCATION:Raum für eigenleben\, Kurfürstenstraße 2\, München\, 80799\, Deutschland
CATEGORIES:Netzwerken & Austausch,Neue Medien
ATTACH;FMTTYPE=image/jpeg:https://eigenleben.de/wp-content/uploads/2022/03/technik-andrew-1-1536x864-1.jpg
ORGANIZER;CN="eigenleben.Club":MAILTO:club@eigenleben.de
END:VEVENT
BEGIN:VEVENT
DTSTART;TZID=Europe/Berlin:20220608T170000
DTEND;TZID=Europe/Berlin:20230607T180000
DTSTAMP:20260419T160538
CREATED:20220210T133738Z
LAST-MODIFIED:20240209T173617Z
UID:10000124-1654707600-1686160800@eigenleben.de
SUMMARY:Andrews Techniksprechstunde
DESCRIPTION:Beim IT-Treff von Andrew Murray werden alle Fragen beantwortet\, die du schon immer an einen Fachmann richten wolltest. Ob es sich um PC\, Laptop\, Mac\, Tablet\, Smartphone\, Netzwerk o.ä. handelt – zu dumme Fragen gibt es nicht\, verständliche Antworten sind garantiert! Auf Deutsch und auf Englisch. \nWir freuen uns auf Dich! \n\n \nWir bitten um eine Anmeldung hier auf dieser Seite:\n\n \n\n\n            JavaScript ist in Ihrem Browser deaktiviert. Um unseren Ticket-Shop ohne JavaScript aufzurufen\, klicken Sie bitte hier.
URL:https://eigenleben.de/event/andrews-techniksprechstunde-2-2022-05-11/2022-06-08/
LOCATION:Raum für eigenleben\, Kurfürstenstraße 2\, München\, 80799\, Deutschland
CATEGORIES:Netzwerken & Austausch,Neue Medien
ATTACH;FMTTYPE=image/jpeg:https://eigenleben.de/wp-content/uploads/2022/03/technik-andrew-1-1536x864-1.jpg
ORGANIZER;CN="eigenleben.Club":MAILTO:club@eigenleben.de
END:VEVENT
BEGIN:VEVENT
DTSTART;TZID=Europe/Berlin:20220713T170000
DTEND;TZID=Europe/Berlin:20230712T180000
DTSTAMP:20260419T160538
CREATED:20220210T133738Z
LAST-MODIFIED:20240209T173617Z
UID:10000125-1657731600-1689184800@eigenleben.de
SUMMARY:Andrews Techniksprechstunde
DESCRIPTION:Beim IT-Treff von Andrew Murray werden alle Fragen beantwortet\, die du schon immer an einen Fachmann richten wolltest. Ob es sich um PC\, Laptop\, Mac\, Tablet\, Smartphone\, Netzwerk o.ä. handelt – zu dumme Fragen gibt es nicht\, verständliche Antworten sind garantiert! Auf Deutsch und auf Englisch. \nWir freuen uns auf Dich! \n\n \nWir bitten um eine Anmeldung hier auf dieser Seite:\n\n \n\n\n            JavaScript ist in Ihrem Browser deaktiviert. Um unseren Ticket-Shop ohne JavaScript aufzurufen\, klicken Sie bitte hier.
URL:https://eigenleben.de/event/andrews-techniksprechstunde-2-2022-05-11/2022-07-13/
LOCATION:Raum für eigenleben\, Kurfürstenstraße 2\, München\, 80799\, Deutschland
CATEGORIES:Netzwerken & Austausch,Neue Medien
ATTACH;FMTTYPE=image/jpeg:https://eigenleben.de/wp-content/uploads/2022/03/technik-andrew-1-1536x864-1.jpg
ORGANIZER;CN="eigenleben.Club":MAILTO:club@eigenleben.de
END:VEVENT
BEGIN:VEVENT
DTSTART;TZID=Europe/Berlin:20220810T170000
DTEND;TZID=Europe/Berlin:20230809T180000
DTSTAMP:20260419T160538
CREATED:20220210T133738Z
LAST-MODIFIED:20240209T173617Z
UID:10000126-1660150800-1691604000@eigenleben.de
SUMMARY:Andrews Techniksprechstunde
DESCRIPTION:Beim IT-Treff von Andrew Murray werden alle Fragen beantwortet\, die du schon immer an einen Fachmann richten wolltest. Ob es sich um PC\, Laptop\, Mac\, Tablet\, Smartphone\, Netzwerk o.ä. handelt – zu dumme Fragen gibt es nicht\, verständliche Antworten sind garantiert! Auf Deutsch und auf Englisch. \nWir freuen uns auf Dich! \n\n \nWir bitten um eine Anmeldung hier auf dieser Seite:\n\n \n\n\n            JavaScript ist in Ihrem Browser deaktiviert. Um unseren Ticket-Shop ohne JavaScript aufzurufen\, klicken Sie bitte hier.
URL:https://eigenleben.de/event/andrews-techniksprechstunde-2-2022-05-11/2022-08-10/
LOCATION:Raum für eigenleben\, Kurfürstenstraße 2\, München\, 80799\, Deutschland
CATEGORIES:Netzwerken & Austausch,Neue Medien
ATTACH;FMTTYPE=image/jpeg:https://eigenleben.de/wp-content/uploads/2022/03/technik-andrew-1-1536x864-1.jpg
ORGANIZER;CN="eigenleben.Club":MAILTO:club@eigenleben.de
END:VEVENT
BEGIN:VEVENT
DTSTART;TZID=Europe/Berlin:20220914T170000
DTEND;TZID=Europe/Berlin:20230913T180000
DTSTAMP:20260419T160538
CREATED:20220210T133738Z
LAST-MODIFIED:20240209T173617Z
UID:10000127-1663174800-1694628000@eigenleben.de
SUMMARY:Andrews Techniksprechstunde
DESCRIPTION:Beim IT-Treff von Andrew Murray werden alle Fragen beantwortet\, die du schon immer an einen Fachmann richten wolltest. Ob es sich um PC\, Laptop\, Mac\, Tablet\, Smartphone\, Netzwerk o.ä. handelt – zu dumme Fragen gibt es nicht\, verständliche Antworten sind garantiert! Auf Deutsch und auf Englisch. \nWir freuen uns auf Dich! \n\n \nWir bitten um eine Anmeldung hier auf dieser Seite:\n\n \n\n\n            JavaScript ist in Ihrem Browser deaktiviert. Um unseren Ticket-Shop ohne JavaScript aufzurufen\, klicken Sie bitte hier.
URL:https://eigenleben.de/event/andrews-techniksprechstunde-2-2022-05-11/2022-09-14/
LOCATION:Raum für eigenleben\, Kurfürstenstraße 2\, München\, 80799\, Deutschland
CATEGORIES:Netzwerken & Austausch,Neue Medien
ATTACH;FMTTYPE=image/jpeg:https://eigenleben.de/wp-content/uploads/2022/03/technik-andrew-1-1536x864-1.jpg
ORGANIZER;CN="eigenleben.Club":MAILTO:club@eigenleben.de
END:VEVENT
BEGIN:VEVENT
DTSTART;TZID=Europe/Berlin:20221012T170000
DTEND;TZID=Europe/Berlin:20231011T180000
DTSTAMP:20260419T160538
CREATED:20220210T133738Z
LAST-MODIFIED:20240209T173617Z
UID:10000128-1665594000-1697047200@eigenleben.de
SUMMARY:Andrews Techniksprechstunde
DESCRIPTION:Beim IT-Treff von Andrew Murray werden alle Fragen beantwortet\, die du schon immer an einen Fachmann richten wolltest. Ob es sich um PC\, Laptop\, Mac\, Tablet\, Smartphone\, Netzwerk o.ä. handelt – zu dumme Fragen gibt es nicht\, verständliche Antworten sind garantiert! Auf Deutsch und auf Englisch. \nWir freuen uns auf Dich! \n\n \nWir bitten um eine Anmeldung hier auf dieser Seite:\n\n \n\n\n            JavaScript ist in Ihrem Browser deaktiviert. Um unseren Ticket-Shop ohne JavaScript aufzurufen\, klicken Sie bitte hier.
URL:https://eigenleben.de/event/andrews-techniksprechstunde-2-2022-05-11/2022-10-12/
LOCATION:Raum für eigenleben\, Kurfürstenstraße 2\, München\, 80799\, Deutschland
CATEGORIES:Netzwerken & Austausch,Neue Medien
ATTACH;FMTTYPE=image/jpeg:https://eigenleben.de/wp-content/uploads/2022/03/technik-andrew-1-1536x864-1.jpg
ORGANIZER;CN="eigenleben.Club":MAILTO:club@eigenleben.de
END:VEVENT
BEGIN:VEVENT
DTSTART;TZID=Europe/Berlin:20221109T170000
DTEND;TZID=Europe/Berlin:20231108T180000
DTSTAMP:20260419T160538
CREATED:20220210T133738Z
LAST-MODIFIED:20240209T173617Z
UID:10000129-1668013200-1699466400@eigenleben.de
SUMMARY:Andrews Techniksprechstunde
DESCRIPTION:Beim IT-Treff von Andrew Murray werden alle Fragen beantwortet\, die du schon immer an einen Fachmann richten wolltest. Ob es sich um PC\, Laptop\, Mac\, Tablet\, Smartphone\, Netzwerk o.ä. handelt – zu dumme Fragen gibt es nicht\, verständliche Antworten sind garantiert! Auf Deutsch und auf Englisch. \nWir freuen uns auf Dich! \n\n \nWir bitten um eine Anmeldung hier auf dieser Seite:\n\n \n\n\n            JavaScript ist in Ihrem Browser deaktiviert. Um unseren Ticket-Shop ohne JavaScript aufzurufen\, klicken Sie bitte hier.
URL:https://eigenleben.de/event/andrews-techniksprechstunde-2-2022-05-11/2022-11-09/
LOCATION:Raum für eigenleben\, Kurfürstenstraße 2\, München\, 80799\, Deutschland
CATEGORIES:Netzwerken & Austausch,Neue Medien
ATTACH;FMTTYPE=image/jpeg:https://eigenleben.de/wp-content/uploads/2022/03/technik-andrew-1-1536x864-1.jpg
ORGANIZER;CN="eigenleben.Club":MAILTO:club@eigenleben.de
END:VEVENT
BEGIN:VEVENT
DTSTART;TZID=Europe/Berlin:20221214T170000
DTEND;TZID=Europe/Berlin:20231213T180000
DTSTAMP:20260419T160538
CREATED:20220210T133738Z
LAST-MODIFIED:20240209T173617Z
UID:10000130-1671037200-1702490400@eigenleben.de
SUMMARY:Andrews Techniksprechstunde
DESCRIPTION:Beim IT-Treff von Andrew Murray werden alle Fragen beantwortet\, die du schon immer an einen Fachmann richten wolltest. Ob es sich um PC\, Laptop\, Mac\, Tablet\, Smartphone\, Netzwerk o.ä. handelt – zu dumme Fragen gibt es nicht\, verständliche Antworten sind garantiert! Auf Deutsch und auf Englisch. \nWir freuen uns auf Dich! \n\n \nWir bitten um eine Anmeldung hier auf dieser Seite:\n\n \n\n\n            JavaScript ist in Ihrem Browser deaktiviert. Um unseren Ticket-Shop ohne JavaScript aufzurufen\, klicken Sie bitte hier.
URL:https://eigenleben.de/event/andrews-techniksprechstunde-2-2022-05-11/2022-12-14/
LOCATION:Raum für eigenleben\, Kurfürstenstraße 2\, München\, 80799\, Deutschland
CATEGORIES:Netzwerken & Austausch,Neue Medien
ATTACH;FMTTYPE=image/jpeg:https://eigenleben.de/wp-content/uploads/2022/03/technik-andrew-1-1536x864-1.jpg
ORGANIZER;CN="eigenleben.Club":MAILTO:club@eigenleben.de
END:VEVENT
BEGIN:VEVENT
DTSTART;TZID=Europe/Berlin:20230111T170000
DTEND;TZID=Europe/Berlin:20240110T180000
DTSTAMP:20260419T160538
CREATED:20220210T133738Z
LAST-MODIFIED:20240209T173617Z
UID:10000131-1673456400-1704909600@eigenleben.de
SUMMARY:Andrews Techniksprechstunde
DESCRIPTION:Beim IT-Treff von Andrew Murray werden alle Fragen beantwortet\, die du schon immer an einen Fachmann richten wolltest. Ob es sich um PC\, Laptop\, Mac\, Tablet\, Smartphone\, Netzwerk o.ä. handelt – zu dumme Fragen gibt es nicht\, verständliche Antworten sind garantiert! Auf Deutsch und auf Englisch. \nWir freuen uns auf Dich! \n\n \nWir bitten um eine Anmeldung hier auf dieser Seite:\n\n \n\n\n            JavaScript ist in Ihrem Browser deaktiviert. Um unseren Ticket-Shop ohne JavaScript aufzurufen\, klicken Sie bitte hier.
URL:https://eigenleben.de/event/andrews-techniksprechstunde-2-2022-05-11/2023-01-11/
LOCATION:Raum für eigenleben\, Kurfürstenstraße 2\, München\, 80799\, Deutschland
CATEGORIES:Netzwerken & Austausch,Neue Medien
ATTACH;FMTTYPE=image/jpeg:https://eigenleben.de/wp-content/uploads/2022/03/technik-andrew-1-1536x864-1.jpg
ORGANIZER;CN="eigenleben.Club":MAILTO:club@eigenleben.de
END:VEVENT
BEGIN:VEVENT
DTSTART;TZID=Europe/Berlin:20230208T170000
DTEND;TZID=Europe/Berlin:20240207T180000
DTSTAMP:20260419T160538
CREATED:20220210T133738Z
LAST-MODIFIED:20240209T173617Z
UID:10000132-1675875600-1707328800@eigenleben.de
SUMMARY:Andrews Techniksprechstunde
DESCRIPTION:Beim IT-Treff von Andrew Murray werden alle Fragen beantwortet\, die du schon immer an einen Fachmann richten wolltest. Ob es sich um PC\, Laptop\, Mac\, Tablet\, Smartphone\, Netzwerk o.ä. handelt – zu dumme Fragen gibt es nicht\, verständliche Antworten sind garantiert! Auf Deutsch und auf Englisch. \nWir freuen uns auf Dich! \n\n \nWir bitten um eine Anmeldung hier auf dieser Seite:\n\n \n\n\n            JavaScript ist in Ihrem Browser deaktiviert. Um unseren Ticket-Shop ohne JavaScript aufzurufen\, klicken Sie bitte hier.
URL:https://eigenleben.de/event/andrews-techniksprechstunde-2-2022-05-11/2023-02-08/
LOCATION:Raum für eigenleben\, Kurfürstenstraße 2\, München\, 80799\, Deutschland
CATEGORIES:Netzwerken & Austausch,Neue Medien
ATTACH;FMTTYPE=image/jpeg:https://eigenleben.de/wp-content/uploads/2022/03/technik-andrew-1-1536x864-1.jpg
ORGANIZER;CN="eigenleben.Club":MAILTO:club@eigenleben.de
END:VEVENT
BEGIN:VEVENT
DTSTART;TZID=Europe/Berlin:20230506T140000
DTEND;TZID=Europe/Berlin:20230506T153000
DTSTAMP:20260419T160538
CREATED:20220621T113109Z
LAST-MODIFIED:20250121T125128Z
UID:10000087-1683381600-1683387000@eigenleben.de
SUMMARY:Offener Singkreis
DESCRIPTION:Jeden ersten Samstag im Monat von 14 Uhr bis 15:30 Uhr bieten wir gemeinsam mit unserem Kooperationspartner und Förderer Retla e.V. ›› einen offenen Singkreis an. \nMitmachen kann\, wer will: Singen steigert das emotionale Wohlbefinden. Dabei werden Ängste und Stress abgebaut und depressive Zustände reduziert. Es macht den Weg frei für das persönliche Glück! \nSingen hilft zudem gegen das Vergessen – bei Demenz\, aber auch generell: Bei Älteren wecken die Lieder aus der Kindheit und Jugend  Lebensfreude und schöne Erinnerungen. Junge Leute lernen vielleicht bisher unbekanntes Kulturgut kennen. Daher sind alle Generationen herzlich eingeladen! Einzige Voraussetzung ist die Freude am Singen. \nAngeleitet wird der musikalische Nachmittag von Sophia Brokamp\, Studentin an der Musikhochschule. Wer Lust hat\, die Gruppe instrumental z.B. auf der Gitarre zu begleiten\, gibt gerne Bescheid. \nEs gibt Platz für insgesamt 10 Personen\, bitte meldet Euch rechtzeitig an bei Karin Georgi von Retla\, per Mail ›› oder Tel. 0176-60395468.
URL:https://eigenleben.de/event/offener-singkreis/2023-05-06/
LOCATION:Raum für eigenleben\, Kurfürstenstraße 2\, München\, 80799\, Deutschland
CATEGORIES:Kultur,Netzwerken & Austausch
ATTACH;FMTTYPE=image/jpeg:https://eigenleben.de/wp-content/uploads/2022/06/Singkreis-e1658232888610.jpg
ORGANIZER;CN="eigenleben.Club":MAILTO:club@eigenleben.de
END:VEVENT
BEGIN:VEVENT
DTSTART;TZID=Europe/Berlin:20230506T160000
DTEND;TZID=Europe/Berlin:20230506T173000
DTSTAMP:20260419T160538
CREATED:20230424T101607Z
LAST-MODIFIED:20230424T101755Z
UID:10000205-1683388800-1683394200@eigenleben.de
SUMMARY:Ziemlich beste Alte
DESCRIPTION:Zur Lesung aus dem Buch „ZIEMLICH BESTE ALTE – Best-Ager geben Gas“ laden Autorin Cornelia von Schelling und Sänger und Schauspieler Andreas Pegler\n\nDie Frauen und Männer in diesem Buch sind weit über sechzig\, arbeiten nicht mehr … und legen los. Ruhelos im Ruhestand schwingen sie sich zu einem Neuanfang auf. Sie tun\, was sie können und unbedingt wollen\, leben ihr Potenzial aus und folgen ihrem Naturell. Dabei engagieren sie sich für Menschen\, die ihnen wichtig sind. Sie erleben großartige Dinge\, doch sie machen auch ganz schön skurrile und mitunter ziemlich bestürzende Erfahrungen.\nZu den Geschichten\, hier eine Auswahl: Der 83-jährige Friedrich verzückt die Bewohner eines Altenheims mit seinen fabelhaften Zauberkünsten. Die Psychologin Rita unterrichtet Kinder und tanzt mit ihnen in einer Flüchtlingsunterkunft. Die Journalistin Sylvia interviewt ältere\, zum Teil sehr kranke Menschen\, die ihren Angehörigen alles erzählen\, was sie bisher versäumt haben zu sagen bzw. zu gestehen. Die Botschaften nimmt Silvia auf Tonband auf. Der Anwalt Michael betreibt eine Fahrradwerkstatt auf dem riesigen Gelände einer Erstaufnahmeeinrichtung für Asylbewerber. Auch Obdachlose wohnen dort und helfen emsig mit.\nJede Geschichte ist ein Beispiel für menschliche Größe im Alter. Und dennoch: Fast jeder Protagonist\, jede Protagonistin in diesem Buch wird mindestens einmal aufgrund des hohen Alters schlechtgemacht\, also diskriminiert. Diesem Doppelphänomen – Alte legen los und Alte werden missachtet – ist die Autorin nachgegangen.\n\nAuf jeden Fall demonstriert das Buch\, dass Ältere sehr viel mehr bewegen und drauf haben als die meisten meinen!\nDer Eintritt ist frei\, für diese Veranstaltung gibt es keine Reservierungsmöglichkeit. Wer zuerst kommt\, sitzt zuerst.\nEs gibt zu trinken\, was das Herz begehrt\, außerdem Kleinigkeiten zu essen – wir bitten davon reichlich Gebrauch zu machen. Auch Spenden für die gemeinnützige Institution eigenleben sind herzlich willkommen!
URL:https://eigenleben.de/event/ziemlich-beste-alte/
LOCATION:Raum für eigenleben\, Kurfürstenstraße 2\, München\, 80799\, Deutschland
ATTACH;FMTTYPE=image/jpeg:https://eigenleben.de/wp-content/uploads/2023/04/342969235_933144644476299_7650662787087317736_n.jpg
ORGANIZER;CN="eigenleben.Club":MAILTO:club@eigenleben.de
END:VEVENT
END:VCALENDAR